BEGIN:VCALENDAR
VERSION:2.0
PRODID:-//The Cloud - ECPv6.15.20//NONSGML v1.0//EN
CALSCALE:GREGORIAN
METHOD:PUBLISH
X-WR-CALNAME:The Cloud
X-ORIGINAL-URL:https://thecloud.berlin
X-WR-CALDESC:Veranstaltungen für The Cloud
REFRESH-INTERVAL;VALUE=DURATION:PT1H
X-Robots-Tag:noindex
X-PUBLISHED-TTL:PT1H
BEGIN:VTIMEZONE
TZID:Europe/Paris
BEGIN:DAYLIGHT
TZOFFSETFROM:+0100
TZOFFSETTO:+0200
TZNAME:CEST
DTSTART:20240331T010000
END:DAYLIGHT
BEGIN:STANDARD
TZOFFSETFROM:+0200
TZOFFSETTO:+0100
TZNAME:CET
DTSTART:20241027T010000
END:STANDARD
BEGIN:DAYLIGHT
TZOFFSETFROM:+0100
TZOFFSETTO:+0200
TZNAME:CEST
DTSTART:20250330T010000
END:DAYLIGHT
BEGIN:STANDARD
TZOFFSETFROM:+0200
TZOFFSETTO:+0100
TZNAME:CET
DTSTART:20251026T010000
END:STANDARD
BEGIN:DAYLIGHT
TZOFFSETFROM:+0100
TZOFFSETTO:+0200
TZNAME:CEST
DTSTART:20260329T010000
END:DAYLIGHT
BEGIN:STANDARD
TZOFFSETFROM:+0200
TZOFFSETTO:+0100
TZNAME:CET
DTSTART:20261025T010000
END:STANDARD
END:VTIMEZONE
BEGIN:VTIMEZONE
TZID:UTC
BEGIN:STANDARD
TZOFFSETFROM:+0000
TZOFFSETTO:+0000
TZNAME:UTC
DTSTART:20240101T000000
END:STANDARD
END:VTIMEZONE
BEGIN:VEVENT
DTSTART;TZID=Europe/Paris:20250118T230000
DTEND;TZID=Europe/Paris:20250119T060000
DTSTAMP:20260422T114111
CREATED:20250114T160429Z
LAST-MODIFIED:20250114T160755Z
UID:25183-1737241200-1737266400@thecloud.berlin
SUMMARY:ASCENSION Tech House Party
DESCRIPTION:BERLIN – seid ihr bereit\, mit uns abzuheben? Am 18. Januar 2025 verwandelt sich The Cloud in Berlin in das ultimative Party-Highlight voller pulsierender House- und Tech-Beats. \nLocation:\nHoch über dem Alexanderplatz feiern wir im The Cloud\, einer einzigartigen Location mit Balkon mit Blick auf den Alex. Genieße atemberaubende Ausblicke\, während die Energie der Musik den Raum füllt und dich mitreißt. \nEinlass:\n23:15 Uhr \nTickets:\n\nStudierende: Nur 8 €\nRegulär: 15 €\nAbendkasse: tba\n\nWhy Ascension?\nKein Standard\, keine halben Sachen – Ascension ist deine Einladung zu einer Nacht ohne Limits. Mit einem sicheren und inklusiven Raum ist jede*r willkommen\, der/die die Liebe zur Musik teilt. \nKein Platz für Hass. Nur für Liebe und gute Vibes. \nBUY YOUR TICKET HERE
URL:https://thecloud.berlin/event/ascension-tech-house-party/
LOCATION:THE Cloud\, Alexanderstraße 7\, Berlin\, Berlin\, 10178\, Germany
CATEGORIES:Night Club
ATTACH;FMTTYPE=image/jpeg:https://thecloud.berlin/wp-content/uploads/2025/01/473136460_17953705358909216_4361360021453028489_n.jpg
END:VEVENT
BEGIN:VEVENT
DTSTART;TZID=Europe/Paris:20250124T230000
DTEND;TZID=Europe/Paris:20250125T060000
DTSTAMP:20260422T114111
CREATED:20250114T161745Z
LAST-MODIFIED:20250114T161745Z
UID:25193-1737759600-1737784800@thecloud.berlin
SUMMARY:OfficialKEvents | BERLIN: KPOP & KHIPHOP Night
DESCRIPTION:✨Abendkasse nur in Online verfügbar (Paypal/Kartenzahlung)✨ \n✨TICKETS✨ bit.ly/48Pdhna \n  \n🥂Tischreservierung🥂\n🥂 +49 176 36630173 (The Cloud)\n🥂ACHTUNG: Eintrittskarten sind NICHT in der Tischreservierung inklusive! \n✨ 18+ Veranstaltung\, Gäste MÜSSEN einen Ausweis mitbringen (keine Fotokopien)\, keine Rückerstattung (außer bei Absage oder Verschiebung). Mit dem Kauf eines Tickets werdet ihr automatisch in unsere E-Mail-\, SMS- und WhatsApp-Liste aufgenommen. \n✨Party von 23 bis 5 Uhr morgens ✨ \n✨Letzter Eintritt 2 Uhr ✨ \n✨Nächste Veranstaltungen am TBA ✨ \nOfficialKEvents ist der größte Veranstalter von KPop-Clubbing-Events in der Welt. Unsere Clubnächte in London und Paris ziehen monatlich mehr als 2000 Besucher an und finden in mehr als 25 Ländern statt. Wir bieten euch nun eine unvergessliche Nacht in Berlin! \nOfficialKEvents DJs werden die ganze Nacht hindurch bis 5 Uhr morgens ausschließlich K-Pop\, K-Hip-Hop und K-EDM Tracks spielen! \nPlant euren Abend für die größte und beste Clubnacht und tanzt zu euren Lieblings-K-Pop- und K-Hip-Hop-Songs! \nOfficialKEvents Making Everlasting Memories! \n________________________________________ \n🔞Altersbeschränkung🔞 \n🔞NUR +18 Jahre🔞 \n________________________________________ \n🎧OfficialKEvents DJs🎧 \n🎧DJ HWI \n________________________________________ \n👥Rekrutierung👥 \n👥Wir suchen derzeit Freiwillige und Promoter\, bewerbt euch mit dem folgendem Link! ⤵️ \nhttps://forms.gle/C5frrMN19vt5k8XTA \n________________________________________ \n🎶 Musik 🎶\n🎶 K-Pop\, K-Hip-hop\, K-EDM \n________________________________________ \n📷Fotograf/in 📷\n📷Ein/e Fotograf/in wird all Eure Momente während des Abends festhalten\n📸 Bitte posiert nicht für ein Foto\, wenn Ihr nicht damit einverstanden seid\, dass die Fotos auf Socialmedia hochgeladen werden.\n📷 Hier findet Ihr eure Fotos: officialkevents.com/gallery \n________________________________________ \n🧥 Garderobe 🧥\n🧥2€ pro Artikel \n________________________________________ \n🍸 Die Bar akzeptiert Karte und Bargeld🍸 \n________________________________________ \n📆Infos📆 \n⏰Wann ⏰: Freitag 24. Januar 2025 von 23 – 05 Uhr morgens\n📍Wo📍: The Cloud\, Alexanderstraße 7 Eingang:\, Otto-Braun-Straße\, 10178 Berlin \n✨TICKETS✨ bit.ly/48Pdhna \nGruppenpaket: 46\,99 € (Nur bis zum 4. Januar)\nBUY 3 GET 1 FREE — Sichere dir 1 GRATIS-Ticket\, indem du unser Gruppenpaket-Ticket kaufst \n🕗 Early Bird Tickets 🕗: 12\,99€ (Nur bis zum 22. Dezember)\n🕘 Eintritt 1. Phase 🕘: 15\,99€\n🕙 Eintritt 2. Phase 🕙: 17\,99€\n🕕 Eintritt 3. Phase 🕕: 19\,99€ \n🚪Abendkasse 🚪: 25.00€ \n________________________________________ \n✨Nächste Veranstaltungen am TBA✨ \nIn the event of postponement\, your ticket will be valid for the next event. Any changes we will let everyone know. \nBedingungen und Konditionen: bit.ly/3pGubj2 \n  \n========= ENGLISH DESCRIPTION ======= \n  \n✨18+ Event\, guests MUST bring ID\, no photocopies\, no refund (Unless cancelled or postponed). You will automatically be entered into our email\, SMS & WhatsApp list by purchasing a ticket.✨ \n✨Party 11pm – 5am ✨ \n✨Last Entry 2am ✨ \n✨Next events on TBA✨ \nOfficialKEvents is the largest KPop and KHiphop Clubbing Events organiser in the world. Our London & Paris club nights bring in over 2000+ attendees monthly\, hosting in 25+ countries. We now bring you an unforgettable night in Berlin! \nOfficialKEvents DJs will be playing KPop\, KHiphop & K-EDM tracks throughout the night\, until 5 AM! \nGet ready to dance the night away to your favourite songs. \nOfficialKEvents Making Everlasting Memories!\n________________________________________ \n🔞 Age restriction 🔞 \n🔞 +18 years ONLY \n________________________________________ \n🎧 OfficialKEvents DJs 🎧 \n🎧DJ HWI \n________________________________________ \n👥 Recruitment 👥 \n👥 We are currently looking for Volunteers and Promoters apply below! ⤵️\n\nhttps://forms.gle/C5frrMN19vt5k8XTA \n________________________________________ \n🎶 Music 🎶 \n🎶 K-Pop\, K-Hip-hop\, K-EDM \n________________________________________ \n📸 Photographer 📸 \n📸 Photographer will capture all your moments throughout the night!\n📸 Please not do not pose for a photo unless you are happy for the photos to be uploaded on social media.\n📷 Here you can find your photos: officialkevents.com/gallery \n________________________________________ \n🧥 Cloakroom 🧥\n🧥2€ per item 🧥 \n________________________________________ \n🍸 Bar accepts card and cash🍸 \n________________________________________ \n📆 Details 📆 \n⏰ When ⏰: Friday 24th January 2025 from 11PM – 5AM; last entry 2AM\n📍Where📍: The Cloud\, Alexanderstraße 7 Eingang:\, Otto-Braun-Straße\, 10178 Berlin \n________________________________________ \n✨TICKETS✨ bit.ly/48Pdhna \nGroup Bundle: 46.99€ (until 4th Jan only)\nBUY 3 GET 1 FREE — Enjoy 1 FREE ticket by purchasing our Group Bundle Ticket \n🕗 Early Bird Tickets 🕗: 12.99€ (until 22nd Dec only)\n🕘 1st Phase Tickets 🕘: 15.99€\n🕙 2nd Phase Tickets 🕙: 17.99€\n🕕 3rd Phase Tickets 🕕: 19.99€ \n🚪Door Price 🚪: 25.00€ \n________________________________________ \n✨Next events TBA✨ \nIn the event of postponement\, your ticket will be valid for the next event. Any changes we will let everyone know. \nTerms and Conditions: bit.ly/3pGubj2 \n\n\nLocation\nThe Cloud\, Alexanderstraße 7\, 10178 Berlin
URL:https://thecloud.berlin/event/officialkevents-berlin-kpop-khiphop-night/
LOCATION:THE Cloud\, Alexanderstraße 7\, Berlin\, Berlin\, 10178\, Germany
CATEGORIES:Night Club
ATTACH;FMTTYPE=image/jpeg:https://thecloud.berlin/wp-content/uploads/2025/01/469294876_17948595062909216_1708404922850758368_n.jpg
END:VEVENT
BEGIN:VEVENT
DTSTART;TZID=UTC:20250131T230000
DTEND;TZID=UTC:20250201T060000
DTSTAMP:20260422T114111
CREATED:20211130T143704Z
LAST-MODIFIED:20250114T125255Z
UID:19965-1738364400-1738389600@thecloud.berlin
SUMMARY:Cosmic Gate
DESCRIPTION: Cosmic Gate Live in Berlin! Am 31. Januar 2025 erwartet euch ein einmaliges Event in der pulsierenden Hauptstadt! Cosmic Gate\, das weltbekannte DJ-Duo\, bringt seine unverwechselbaren Sounds und harmonischen Beats in die aufregendste Location der Stadt – The Cloud Berlin! Macht euch bereit für ein exklusives Extended Set\, das die Grenzen von Trance und Progressive House neu definiert und euch die ganze Nacht lang auf eine musikalische Reise mitnimmt.The Cloud Berlin\, direkt am Alexanderplatz\, bietet nicht nur ein kraftvolles Soundsystem und atemberaubende LED-Visuals\, sondern auch eine Dachterrasse mit spektakulärem Blick auf den Fernsehturm – ein absolut einzigartiges Erlebnis in der Berliner Clubszene. Taucht ein in eine Atmosphäre\, die in Klang und Licht verschmilzt und euch in neue Dimensionen der Clubmusik führt.Für zusätzliche Unterstützung sorgen die talentierten DJs Microdizko\, Kollektiv Klanggut und Mike van Heegen die mit ihrem erstklassigen Club Sound und ihren harmonischen Melodien den perfekten Einstieg in die Nacht bereiten.  Das erwartet euch:• Exklusives Extended Set von Cosmic Gate\n• Support von Microdizko & Kollektiv Klanggut und Mike van Heegen\n• Einzigartige LED-Installation und mächtiges Soundsystem\n• Atemberaubende Dachterrasse mit Blick auf den Fernsehturm\n• Ein Event\, das ihr so schnell nicht vergessen werdet! Datum: 31. Januar 2025\n Location: The Cloud Berlin\, Alexanderstraße 7\, 10178 Berlin ( Eingang: Otto-Braun-Straße) am Alexanderplatz Verpasst nicht die Chance\, Cosmic Gate live in dieser einmaligen Kulisse zu erleben. Tickets sind limitiert – sichert euch jetzt euren Platz und freut euch auf eine unvergessliche Nacht in den Wolken Berlins! \nNullam arcu enim\, dictum at pharetra pharetra\, vulputate ut eros. In ante lacus\, varius quis facilisis vitae\, iaculis sit amet justo. Donec hendrerit diam. Pellentesque egestas risus a cursus nisl aliquam malesuada. Donec suscipit posuere fringilla. Vivamus tristique\, odio non efficitur malesuada\, purus quam dictum elit\, vitae hendrerit ex magna et urna. Nulla sed blandit ante\, eu auctor felis. Vivamus ornare quam dignissim odio tincidunt a eleifend. Maecenas gravida porta purus est vestibulum. Nam ut elit massa. Etiam metus sapien\, placerat eget volutpat eu\, ultrices id elit. Sed vel neque ac quam molestie scelerisque nec non neque. Duis sed mi augue imperdiet eleifend. Vivamus rutrum a turpis eu porta. Donec sagittis est eleifend tortor feugiat\, molestie diam dapibus. Morbi tristique at erat at efficitur. Donec efficitur\, neque quis luctus et aliquet\, libero erat condimentum arcu\, at varius augue justo condimentum tortor. \nBuy Ticket
URL:https://thecloud.berlin/event/surprise-exclusive-night-show-for-men/
LOCATION:THE Cloud\, Alexanderstraße 7\, Berlin\, Berlin\, 10178\, Germany
CATEGORIES:Night Club
ATTACH;FMTTYPE=image/jpeg:https://thecloud.berlin/wp-content/uploads/2021/11/cosmic.jpg
ORGANIZER;CN="WANTED":MAILTO:info@wanted-berlin.com
END:VEVENT
END:VCALENDAR