BEGIN:VCALENDAR
VERSION:2.0
PRODID:-//The Cloud - ECPv6.15.20//NONSGML v1.0//EN
CALSCALE:GREGORIAN
METHOD:PUBLISH
X-ORIGINAL-URL:https://thecloud.berlin
X-WR-CALDESC:Veranstaltungen für The Cloud
REFRESH-INTERVAL;VALUE=DURATION:PT1H
X-Robots-Tag:noindex
X-PUBLISHED-TTL:PT1H
BEGIN:VTIMEZONE
TZID:Europe/Paris
BEGIN:DAYLIGHT
TZOFFSETFROM:+0100
TZOFFSETTO:+0200
TZNAME:CEST
DTSTART:20240331T010000
END:DAYLIGHT
BEGIN:STANDARD
TZOFFSETFROM:+0200
TZOFFSETTO:+0100
TZNAME:CET
DTSTART:20241027T010000
END:STANDARD
BEGIN:DAYLIGHT
TZOFFSETFROM:+0100
TZOFFSETTO:+0200
TZNAME:CEST
DTSTART:20250330T010000
END:DAYLIGHT
BEGIN:STANDARD
TZOFFSETFROM:+0200
TZOFFSETTO:+0100
TZNAME:CET
DTSTART:20251026T010000
END:STANDARD
BEGIN:DAYLIGHT
TZOFFSETFROM:+0100
TZOFFSETTO:+0200
TZNAME:CEST
DTSTART:20260329T010000
END:DAYLIGHT
BEGIN:STANDARD
TZOFFSETFROM:+0200
TZOFFSETTO:+0100
TZNAME:CET
DTSTART:20261025T010000
END:STANDARD
END:VTIMEZONE
BEGIN:VEVENT
DTSTART;TZID=Europe/Paris:20250213T220000
DTEND;TZID=Europe/Paris:20250214T050000
DTSTAMP:20260422T114640
CREATED:20250205T133212Z
LAST-MODIFIED:20250205T133832Z
UID:25276-1739484000-1739509200@thecloud.berlin
SUMMARY:MAGIC JUAN - Live in Berlin
DESCRIPTION:SAVE THE DATE: February 13\, 2025! \nGet ready for an unforgettable night! 🎶🎤 Magic Juan\, the master of Latin beats\, will be performing live at **Club The Cloud** in Berlin! 🌆 \n🌍 Address: Club The Cloud\, Alexanderstraße 7\, 10178 Berlin** \nJoin us and dance to the finest Reggaeton and Merengue sounds as we celebrate **International Women’s Day** together! 💃🕺 Let Magic Juan take you on a journey filled with energy and joy! \n🔔 Doors open at 22:00! Mark your friends and grab your tickets here: [Ticket Link](https://latinosilvester.ticket.io/6cx7ll86/) 🎟️🔥 You won’t want to miss this! \n#MagicJuan #LiveEvent #ClubTheCloud #Berlin #Reggaeton #Merengue #LatinBeats #PartyTime #InternationalWomensDay
URL:https://thecloud.berlin/event/magic-juan-live-in-berlin/
LOCATION:THE Cloud\, Alexanderstraße 7\, Berlin\, Berlin\, 10178\, Germany
CATEGORIES:Night Club
ATTACH;FMTTYPE=image/jpeg:https://thecloud.berlin/wp-content/uploads/2025/02/holder-1080.jpg
END:VEVENT
END:VCALENDAR