BEGIN:VCALENDAR
VERSION:2.0
PRODID:-//The Cloud - ECPv6.15.20//NONSGML v1.0//EN
CALSCALE:GREGORIAN
METHOD:PUBLISH
X-ORIGINAL-URL:https://thecloud.berlin
X-WR-CALDESC:Veranstaltungen für The Cloud
REFRESH-INTERVAL;VALUE=DURATION:PT1H
X-Robots-Tag:noindex
X-PUBLISHED-TTL:PT1H
BEGIN:VTIMEZONE
TZID:Europe/Paris
BEGIN:DAYLIGHT
TZOFFSETFROM:+0100
TZOFFSETTO:+0200
TZNAME:CEST
DTSTART:20240331T010000
END:DAYLIGHT
BEGIN:STANDARD
TZOFFSETFROM:+0200
TZOFFSETTO:+0100
TZNAME:CET
DTSTART:20241027T010000
END:STANDARD
BEGIN:DAYLIGHT
TZOFFSETFROM:+0100
TZOFFSETTO:+0200
TZNAME:CEST
DTSTART:20250330T010000
END:DAYLIGHT
BEGIN:STANDARD
TZOFFSETFROM:+0200
TZOFFSETTO:+0100
TZNAME:CET
DTSTART:20251026T010000
END:STANDARD
BEGIN:DAYLIGHT
TZOFFSETFROM:+0100
TZOFFSETTO:+0200
TZNAME:CEST
DTSTART:20260329T010000
END:DAYLIGHT
BEGIN:STANDARD
TZOFFSETFROM:+0200
TZOFFSETTO:+0100
TZNAME:CET
DTSTART:20261025T010000
END:STANDARD
END:VTIMEZONE
BEGIN:VEVENT
DTSTART;TZID=Europe/Paris:20250118T230000
DTEND;TZID=Europe/Paris:20250119T060000
DTSTAMP:20260422T131904
CREATED:20250114T160429Z
LAST-MODIFIED:20250114T160755Z
UID:25183-1737241200-1737266400@thecloud.berlin
SUMMARY:ASCENSION Tech House Party
DESCRIPTION:BERLIN – seid ihr bereit\, mit uns abzuheben? Am 18. Januar 2025 verwandelt sich The Cloud in Berlin in das ultimative Party-Highlight voller pulsierender House- und Tech-Beats. \nLocation:\nHoch über dem Alexanderplatz feiern wir im The Cloud\, einer einzigartigen Location mit Balkon mit Blick auf den Alex. Genieße atemberaubende Ausblicke\, während die Energie der Musik den Raum füllt und dich mitreißt. \nEinlass:\n23:15 Uhr \nTickets:\n\nStudierende: Nur 8 €\nRegulär: 15 €\nAbendkasse: tba\n\nWhy Ascension?\nKein Standard\, keine halben Sachen – Ascension ist deine Einladung zu einer Nacht ohne Limits. Mit einem sicheren und inklusiven Raum ist jede*r willkommen\, der/die die Liebe zur Musik teilt. \nKein Platz für Hass. Nur für Liebe und gute Vibes. \nBUY YOUR TICKET HERE
URL:https://thecloud.berlin/event/ascension-tech-house-party/
LOCATION:THE Cloud\, Alexanderstraße 7\, Berlin\, Berlin\, 10178\, Germany
CATEGORIES:Night Club
ATTACH;FMTTYPE=image/jpeg:https://thecloud.berlin/wp-content/uploads/2025/01/473136460_17953705358909216_4361360021453028489_n.jpg
END:VEVENT
END:VCALENDAR